BEGIN:VCALENDAR
VERSION:2.0
PRODID:-//850 Jahre Burgaltendorf - ECPv5.16.3.1//NONSGML v1.0//EN
CALSCALE:GREGORIAN
METHOD:PUBLISH
X-WR-CALNAME:850 Jahre Burgaltendorf
X-ORIGINAL-URL:http://850jahre.burgaltendorf.de
X-WR-CALDESC:Veranstaltungen für 850 Jahre Burgaltendorf
BEGIN:VTIMEZONE
TZID:UTC
BEGIN:STANDARD
TZOFFSETFROM:+0000
TZOFFSETTO:+0000
TZNAME:UTC
DTSTART:20160101T000000
END:STANDARD
END:VTIMEZONE
BEGIN:VEVENT
DTSTART;TZID=UTC:20160414T193000
DTEND;TZID=UTC:20160414T210000
DTSTAMP:20260421T052737
CREATED:20160128T211754Z
LAST-MODIFIED:20160228T203657Z
UID:752-1460662200-1460667600@850jahre.burgaltendorf.de
SUMMARY:Vortrag "Fremd bin ich eingezogen - Zuwanderung\, Flucht\, Vertreibung und Integration im Raum Hattingen" (HBV)
DESCRIPTION:An diesem Abend wird Thomas Weiß vom Stadtarchiv Hattingen einen sehr interessanten Vortrag mit vielen Informationen halten.
URL:http://850jahre.burgaltendorf.de/event/vortrag-fremd-bin-ich-eingezogen-zuwanderung-flucht-vertreibung-und-integration-im-raum-hattingen
LOCATION:Aula der Grundschule Burgaltendorf\, Alte Hauptstraße 50\, Essen\, 45289
CATEGORIES:850Jahre,Kultur & Geschichte
ATTACH;FMTTYPE=image/jpeg:http://850jahre.burgaltendorf.de/wp-content/uploads/2016/01/1404-vertreibung.jpg
ORGANIZER;CN="HBV%20-%20Heimat-%20und%20Burgverein":MAILTO:info@hbv-burgaltendorf.de
END:VEVENT
END:VCALENDAR