BEGIN:VCALENDAR
VERSION:2.0
PRODID:-//850 Jahre Burgaltendorf - ECPv5.16.3.1//NONSGML v1.0//EN
CALSCALE:GREGORIAN
METHOD:PUBLISH
X-WR-CALNAME:850 Jahre Burgaltendorf
X-ORIGINAL-URL:http://850jahre.burgaltendorf.de
X-WR-CALDESC:Veranstaltungen für 850 Jahre Burgaltendorf
BEGIN:VTIMEZONE
TZID:UTC
BEGIN:STANDARD
TZOFFSETFROM:+0000
TZOFFSETTO:+0000
TZNAME:UTC
DTSTART:20160101T000000
END:STANDARD
END:VTIMEZONE
BEGIN:VEVENT
DTSTART;TZID=UTC:20160529T170000
DTEND;TZID=UTC:20160529T183000
DTSTAMP:20260421T081556
CREATED:20160130T123444Z
LAST-MODIFIED:20160410T190137Z
UID:812-1464541200-1464546600@850jahre.burgaltendorf.de
SUMMARY:Texte und Töne im Turm: Heinrich Peuckmann liest Heinrich Kämpchen (HBV)
DESCRIPTION:Heinrich Peuckmann liest Heinrich Kämpchen \nPEN-Mitglied Heinrich Peuckmann ist Journalist\, Herausgeber\, Schriftsteller\, Krimi- und Kinderbuchautor und Dichter im Ruhrrevier- uns stellt er den bekanntesten Burgaltendorfer Bürger\, den Heimat- und Arbeiterdichter Heinrich Kämpchen (1847 – 1912) vor.
URL:http://850jahre.burgaltendorf.de/event/texte-und-toene-im-turm-hbv-2
LOCATION:Burgruine Burgaltendorf\, Burgstraße 2\, Essen\, NRW\,  45289\, Deutschland
CATEGORIES:850Jahre,Kultur & Geschichte
ORGANIZER;CN="HBV%20-%20Heimat-%20und%20Burgverein":MAILTO:info@hbv-burgaltendorf.de
END:VEVENT
END:VCALENDAR