BEGIN:VCALENDAR
VERSION:2.0
PRODID:-//850 Jahre Burgaltendorf - ECPv5.16.3.1//NONSGML v1.0//EN
CALSCALE:GREGORIAN
METHOD:PUBLISH
X-WR-CALNAME:850 Jahre Burgaltendorf
X-ORIGINAL-URL:http://850jahre.burgaltendorf.de
X-WR-CALDESC:Veranstaltungen für 850 Jahre Burgaltendorf
BEGIN:VTIMEZONE
TZID:UTC
BEGIN:STANDARD
TZOFFSETFROM:+0000
TZOFFSETTO:+0000
TZNAME:UTC
DTSTART:20160101T000000
END:STANDARD
END:VTIMEZONE
BEGIN:VEVENT
DTSTART;TZID=UTC:20160521T140000
DTEND;TZID=UTC:20160521T190000
DTSTAMP:20260419T210606
CREATED:20160130T122814Z
LAST-MODIFIED:20160301T225653Z
UID:807-1463839200-1463857200@850jahre.burgaltendorf.de
SUMMARY:Menschenkicker-Turnier aller Burgaltendorfer Vereine (Kolping)
DESCRIPTION:Im Jahr 2012 haben wir auf dem Bolzplatz gegenüber dem Pastorat zum ersten Mal ein Menschenkicker-Turnier der Burgaltendorfer Gruppen und Vereine veranstaltet. Der Sieger erhält auch in 2016 unseren Wanderpokal. Jeweils 5 Spielerinnen und / oder Spieler stehen sich gegenüber\, halten sich an Stangen fest und versuchen\, den Ball im gegnerischen Tor unterzubringen. \nBeim anschließenden Dämmerschoppen am Getränkestand lassen wir dann den Turniersieger hochleben.
URL:http://850jahre.burgaltendorf.de/event/menschenkicker-turnier-aller-burgaltendorfer-vereine-kolping
LOCATION:Gemeindeheim\, Alte Hauptstraße 64\, Essen\, 45289\, Deutschland
CATEGORIES:Kind & Familie,Sport & Freizeit
ATTACH;FMTTYPE=image/jpeg:http://850jahre.burgaltendorf.de/wp-content/uploads/2016/01/kolpingfest-kicker_01.jpg
END:VEVENT
END:VCALENDAR