BEGIN:VCALENDAR
VERSION:2.0
PRODID:-//850 Jahre Burgaltendorf - ECPv5.16.3.1//NONSGML v1.0//EN
CALSCALE:GREGORIAN
METHOD:PUBLISH
X-WR-CALNAME:850 Jahre Burgaltendorf
X-ORIGINAL-URL:http://850jahre.burgaltendorf.de
X-WR-CALDESC:Veranstaltungen für 850 Jahre Burgaltendorf
BEGIN:VTIMEZONE
TZID:UTC
BEGIN:STANDARD
TZOFFSETFROM:+0000
TZOFFSETTO:+0000
TZNAME:UTC
DTSTART:20160101T000000
END:STANDARD
END:VTIMEZONE
BEGIN:VEVENT
DTSTART;TZID=UTC:20160410T150000
DTEND;TZID=UTC:20160410T170000
DTSTAMP:20260421T070021
CREATED:20160128T210732Z
LAST-MODIFIED:20160213T084527Z
UID:750-1460300400-1460307600@850jahre.burgaltendorf.de
SUMMARY:Kinderkirche - mit Musik / Gesang und spirituellem Anspiel (Kirchengemeinde Herz-Jesu)
DESCRIPTION:Für Kinder und Eltern
URL:http://850jahre.burgaltendorf.de/event/kinderkirche-mit-musik-gesang-und-spirituellem-anspiel-kirchengemeinde-herz-jesu
LOCATION:Katholische Kirche Herz-Jesu\, Alte Hauptstraße 64\, Essen\, 45289\, Deutschland
CATEGORIES:Kind & Familie,Kirche & Spiritualität
ATTACH;FMTTYPE=image/jpeg:http://850jahre.burgaltendorf.de/wp-content/uploads/2016/01/programmbilder-vorbereitet_01.jpg
END:VEVENT
END:VCALENDAR