BEGIN:VCALENDAR
VERSION:2.0
PRODID:-//850 Jahre Burgaltendorf - ECPv5.16.3.1//NONSGML v1.0//EN
CALSCALE:GREGORIAN
METHOD:PUBLISH
X-WR-CALNAME:850 Jahre Burgaltendorf
X-ORIGINAL-URL:http://850jahre.burgaltendorf.de
X-WR-CALDESC:Veranstaltungen für 850 Jahre Burgaltendorf
BEGIN:VTIMEZONE
TZID:UTC
BEGIN:STANDARD
TZOFFSETFROM:+0000
TZOFFSETTO:+0000
TZNAME:UTC
DTSTART:20160101T000000
END:STANDARD
END:VTIMEZONE
BEGIN:VEVENT
DTSTART;TZID=UTC:20160522T100000
DTEND;TZID=UTC:20160522T200000
DTSTAMP:20260419T155638
CREATED:20160130T122920Z
LAST-MODIFIED:20160228T185207Z
UID:808-1463911200-1463947200@850jahre.burgaltendorf.de
SUMMARY:Gemeinsamer Gottesdienst in der Herz-Jesu Kirche / Kolping Familienfest
DESCRIPTION:Gemeinsamer Gottesdienst in der Herz Jesu-Kirche mit anschließendem Fest für die ganze Familie rund ums Gemeindeheim Herz Jesu.
URL:http://850jahre.burgaltendorf.de/event/gemeinsamer-gottesdienst-in-der-herz-jesu-kirche-kolping-familienfest
LOCATION:Gemeindeheim\, Alte Hauptstraße 64\, Essen\, 45289\, Deutschland
CATEGORIES:Kind & Familie,Kirche & Spiritualität
END:VEVENT
END:VCALENDAR