BEGIN:VCALENDAR
VERSION:2.0
PRODID:-//850 Jahre Burgaltendorf - ECPv5.16.3.1//NONSGML v1.0//EN
CALSCALE:GREGORIAN
METHOD:PUBLISH
X-WR-CALNAME:850 Jahre Burgaltendorf
X-ORIGINAL-URL:http://850jahre.burgaltendorf.de
X-WR-CALDESC:Veranstaltungen für 850 Jahre Burgaltendorf
BEGIN:VTIMEZONE
TZID:UTC
BEGIN:STANDARD
TZOFFSETFROM:+0000
TZOFFSETTO:+0000
TZNAME:UTC
DTSTART:20160101T000000
END:STANDARD
END:VTIMEZONE
BEGIN:VEVENT
DTSTART;TZID=UTC:20160417T160000
DTEND;TZID=UTC:20160417T173000
DTSTAMP:20260420T195211
CREATED:20160128T213622Z
LAST-MODIFIED:20160224T081543Z
UID:761-1460908800-1460914200@850jahre.burgaltendorf.de
SUMMARY:1. Festkonzert der Sängervereinigung 1866
DESCRIPTION:1. Festkonzert\nin der Herz-Jesu-Kirche in Burgaltendorf \nMitwirkende:\nCollegium musicale\nLeitung: Joachim Galemann \nMarcel Rosca\, Bass \nSängervereinigung 1866 Essen-Burgaltendorf\nLeitung: Musikdirektor Axel Quast \nEintritt:\nErwachsene: 16\,– Euro\nSchüler / Studenten: 14\,– Euro
URL:http://850jahre.burgaltendorf.de/event/festkonzert-der-saengervereinigung-1866
LOCATION:Katholische Kirche Herz-Jesu\, Alte Hauptstraße 64\, Essen\, 45289\, Deutschland
CATEGORIES:Musik & Gesang
ATTACH;FMTTYPE=image/jpeg:http://850jahre.burgaltendorf.de/wp-content/uploads/2016/01/1704-saengerverinigung.jpg
ORGANIZER;CN="S%C3%A4ngervereinigung%201866":MAILTO:Unteregge@Saengervg-Burgaltendorf.de
END:VEVENT
END:VCALENDAR