BEGIN:VCALENDAR
VERSION:2.0
PRODID:-//850 Jahre Burgaltendorf - ECPv5.16.3.1//NONSGML v1.0//EN
CALSCALE:GREGORIAN
METHOD:PUBLISH
X-WR-CALNAME:850 Jahre Burgaltendorf
X-ORIGINAL-URL:http://850jahre.burgaltendorf.de
X-WR-CALDESC:Veranstaltungen für 850 Jahre Burgaltendorf
BEGIN:VTIMEZONE
TZID:UTC
BEGIN:STANDARD
TZOFFSETFROM:+0000
TZOFFSETTO:+0000
TZNAME:UTC
DTSTART:20160101T000000
END:STANDARD
END:VTIMEZONE
BEGIN:VEVENT
DTSTART;VALUE=DATE:20160505
DTEND;VALUE=DATE:20160506
DTSTAMP:20260420T050211
CREATED:20160130T121032Z
LAST-MODIFIED:20160130T121210Z
UID:797-1462406400-1462492799@850jahre.burgaltendorf.de
SUMMARY:Familientag mit Fußballturnier (SVA)
DESCRIPTION:Familientag mit Fußballtermin: \nEiberg\, Burgaltendorf\, Niederwenigern\, Dahlhausen sind die Ortschaften\, die auf der Urkunde von 1166 genannt werden. \nEs ist sozusagen ein „historisches“ Fußballturnier.
URL:http://850jahre.burgaltendorf.de/event/familientag-mit-fussballturnier-sva
LOCATION:Sportplatz an der Windmühle\, An der Windmühle 24\, Essen\, 45289\, Deutschland
CATEGORIES:850Jahre,Kind & Familie,Sport & Freizeit
ATTACH;FMTTYPE=image/gif:http://850jahre.burgaltendorf.de/wp-content/uploads/2016/01/SVA.gif
END:VEVENT
END:VCALENDAR