BEGIN:VCALENDAR
VERSION:2.0
PRODID:-//850 Jahre Burgaltendorf - ECPv5.16.3.1//NONSGML v1.0//EN
CALSCALE:GREGORIAN
METHOD:PUBLISH
X-WR-CALNAME:850 Jahre Burgaltendorf
X-ORIGINAL-URL:http://850jahre.burgaltendorf.de
X-WR-CALDESC:Veranstaltungen für 850 Jahre Burgaltendorf
BEGIN:VTIMEZONE
TZID:UTC
BEGIN:STANDARD
TZOFFSETFROM:+0000
TZOFFSETTO:+0000
TZNAME:UTC
DTSTART:20160101T000000
END:STANDARD
END:VTIMEZONE
BEGIN:VEVENT
DTSTART;TZID=UTC:20160525T091500
DTEND;TZID=UTC:20160525T173000
DTSTAMP:20260419T141628
CREATED:20160130T123258Z
LAST-MODIFIED:20160220T170223Z
UID:811-1464167700-1464197400@850jahre.burgaltendorf.de
SUMMARY:60Plus-Freizeitaktivitäten: Spargelessen in Walbeck (TVE)
DESCRIPTION:Am 25.05.2016 wollen wir zum Spargelhof Kisters in Walbeck fahren. In dem Ausflug ist eine Führung durch den Ort Walbeck\, das Spargelessen (all you can eat) in einem Lokal und die Besichtigung der Mühle enthalten. \n Programmablauf:\n09:15 Uhr: Treffen am Busbahnhof Burgaltendorf\n09:30 Uhr: Abfahrt mit einem gemieteten Bus nach Walbeck\n11:00 Uhr: Führung durch Walbeck\n12:00 Uhr: Spargelessen\nanschließend:\nMöglichkeit zum Spargeleinkauf auf dem Hof Kisters\n14:30 Uhr: Führung durch die Mühle in 2 Gruppen\n17:30 Uhr: Rückankunft Burgaltendorf \n Teilnahmekosten\nfür Busfahrten\, Spargelessen und Führungen:\nWegen der Busmiete ist die Teilnehmereigenleistung abhängig von der Personenzahl. Bei 50 Teilnehmern/-innen beträgt sie 32\,50 € (Nichtmitglieder) bzw. 28\,50 € (Mitglieder nach Abzug eines Vereinszuschusses). Die endgültige Teilnehmereigenleistung wird am Tage des Anmeldeschlusses entsprechend der zu diesem Zeitpunkt vorliegenden Anmeldungen festgelegt.  \n Stornokosten:\n 15\,00 € bei Abmeldung nach dem Anmeldungsschluss \nMinimale / Maximale Teilnehmerzahl:\n40 / 50 \n Anmeldung:\n – Universelles Anmeldungsformular im „Wurfspieß“\, Seite 7\n – Anmeldungsformular an der Rezeption des AKTIV PUNKT\n – per eMail an:  sport@tve-burgaltendorf.de\n – Online-Anmeldung hier…. \nAnmeldeschluss:\n29.04.2016 \nProjektleitung: \nDierk Vienken & Dorothe Virnich \n 
URL:http://850jahre.burgaltendorf.de/event/60plus-freizeitaktivitaeten-spargelessen-in-walbeck-tve
LOCATION:Busbahnhof Burgaltendorf\, Dumberger Straße 9\, Essen\, NRW\, 45289 \, Deutschland
CATEGORIES:Natur & Umland,Sport & Freizeit
ORGANIZER;CN="TVE%20Burgaltendorf":MAILTO:sport@tve-burgaltendorf.de
END:VEVENT
END:VCALENDAR