BEGIN:VCALENDAR
VERSION:2.0
PRODID:-//850 Jahre Burgaltendorf - ECPv5.16.3.1//NONSGML v1.0//EN
CALSCALE:GREGORIAN
METHOD:PUBLISH
X-WR-CALNAME:850 Jahre Burgaltendorf
X-ORIGINAL-URL:http://850jahre.burgaltendorf.de
X-WR-CALDESC:Veranstaltungen für 850 Jahre Burgaltendorf
BEGIN:VTIMEZONE
TZID:UTC
BEGIN:STANDARD
TZOFFSETFROM:+0000
TZOFFSETTO:+0000
TZNAME:UTC
DTSTART:20160101T000000
END:STANDARD
END:VTIMEZONE
BEGIN:VEVENT
DTSTART;TZID=UTC:20160324T120000
DTEND;TZID=UTC:20160324T160000
DTSTAMP:20260421T100447
CREATED:20160128T210319Z
LAST-MODIFIED:20160215T203026Z
UID:749-1458820800-1458835200@850jahre.burgaltendorf.de
SUMMARY:50Plus Radeltour: Über Bredeneyer Höhenwege (TVE)
DESCRIPTION:Monatliche 50plus-Radeltouren mit Einkehr: \nBewegung an der frischen Luft\, Geselligkeit\, Spaß \n– Gemütliches Radeln ohne höhere Leistungsansprüche – \n\nStreckenbeschreibung \n35 km; Ruhrradweg\, Annental\, Gruga\, Meisenburg\, Schuir\, Werden\, Burgaltendorf \nEinkehr: Gaststätte „Straußenfarm“ oder „12 Apostel“ \n\nTeilnahmegebühr \nMitglieder: keine \nNichtmitglieder: im Dorfjubiläumsjahr 2016: 0\,00 € \n\nTourleiter \nWilfried Kamplade \n(geweka.burg@web.de; Mobilfunk-Nr. für unterwegs: 0172-6500244) \n 
URL:http://850jahre.burgaltendorf.de/event/50plus-radeltour-tve
LOCATION:AKTIV PUNKT\, Holteyer Str. 29\, Essen\, NRW\, 45289 \, Deutschland
CATEGORIES:Natur & Umland,Sport & Freizeit
ATTACH;FMTTYPE=image/jpeg:http://850jahre.burgaltendorf.de/wp-content/uploads/2016/01/14_02_TVE-50Plus-Radeln.jpg
ORGANIZER;CN="TVE%20Burgaltendorf":MAILTO:sport@tve-burgaltendorf.de
END:VEVENT
END:VCALENDAR