BEGIN:VCALENDAR
VERSION:2.0
PRODID:-//850 Jahre Burgaltendorf - ECPv5.16.3.1//NONSGML v1.0//EN
CALSCALE:GREGORIAN
METHOD:PUBLISH
X-WR-CALNAME:850 Jahre Burgaltendorf
X-ORIGINAL-URL:http://850jahre.burgaltendorf.de
X-WR-CALDESC:Veranstaltungen für 850 Jahre Burgaltendorf
BEGIN:VTIMEZONE
TZID:UTC
BEGIN:STANDARD
TZOFFSETFROM:+0000
TZOFFSETTO:+0000
TZNAME:UTC
DTSTART:20160101T000000
END:STANDARD
END:VTIMEZONE
BEGIN:VEVENT
DTSTART;TZID=UTC:20160511T150000
DTEND;TZID=UTC:20160511T190000
DTSTAMP:20260420T020117
CREATED:20160130T121334Z
LAST-MODIFIED:20160215T204317Z
UID:800-1462978800-1462993200@850jahre.burgaltendorf.de
SUMMARY:50Plus Radeltour: Hab mein Radel voll geladen (TVE)
DESCRIPTION:Monatliche 50plus-Radeltouren mit Einkehr: \nBewegung an der frischen Luft\, Geselligkeit\, Spaß \n– Gemütliches Radeln ohne höhere Leistungsansprüche – \n\nStreckenbeschreibung: \n30 km; zur Ruhr\, der Ruhr\, der Ruhr entlang nach Steele\, an der Zornigen Ameise \nauf die Bahntrasse Richtung Gruga\, Höhe Bredeney in den Stadtwald\, an der Villa \nHügel vorbei in Richtung Baldeneysee\, dort über das Wehr an der Südseite des \nSees entlang über Kupferdreh nach Burgaltendorf zurück \nEinkehr: Segelkameradschaft Scheppen \n\nTeilnahmegebühr \nMitglieder: keine \nNichtmitglieder: im Dorfjubiläumsjahr 2016: 0\,00 € \n\nTourleiter: \nMichael Stricker \n(michael@stricker-essen.de; Mobilfunk-Nr. für unterwegs: 0152-29515108) \n 
URL:http://850jahre.burgaltendorf.de/event/50plus-radeltour-hab-mein-radl-voll-geladen-tve
LOCATION:AKTIV PUNKT\, Holteyer Str. 29\, Essen\, NRW\, 45289 \, Deutschland
CATEGORIES:Natur & Umland,Sport & Freizeit
ATTACH;FMTTYPE=image/jpeg:http://850jahre.burgaltendorf.de/wp-content/uploads/2016/01/14_02_TVE-50Plus-Radeln.jpg
ORGANIZER;CN="TVE%20Burgaltendorf":MAILTO:sport@tve-burgaltendorf.de
END:VEVENT
END:VCALENDAR