BEGIN:VCALENDAR
VERSION:2.0
PRODID:-//850 Jahre Burgaltendorf - ECPv5.16.3.1//NONSGML v1.0//EN
CALSCALE:GREGORIAN
METHOD:PUBLISH
X-WR-CALNAME:850 Jahre Burgaltendorf
X-ORIGINAL-URL:http://850jahre.burgaltendorf.de
X-WR-CALDESC:Veranstaltungen für 850 Jahre Burgaltendorf
BEGIN:VTIMEZONE
TZID:UTC
BEGIN:STANDARD
TZOFFSETFROM:+0000
TZOFFSETTO:+0000
TZNAME:UTC
DTSTART:20160101T000000
END:STANDARD
END:VTIMEZONE
BEGIN:VEVENT
DTSTART;TZID=UTC:20160416T150000
DTEND;TZID=UTC:20160416T170000
DTSTAMP:20260421T011202
CREATED:20160128T212933Z
LAST-MODIFIED:20160222T234144Z
UID:757-1460818800-1460826000@850jahre.burgaltendorf.de
SUMMARY:13. Burgaltendorfer Theaterwochenende: Robin Hood (KTB)
DESCRIPTION:Theaterstück für Jung und Alt in 2 Akten von\nFionna Kessler\nInhalt:\nWer kennt sie nicht\, die Geschichte von dem Rächer der Armen und Unterdrückten? Von dem Mann\, der ganz in grün gekleidet mit seinen Männern im Wald lebt? Von dem besten Bogenschützen ganz Englands\, vielleicht sogar der ganzen Welt? Gemeint ist natürlich Robin Hood\, der mit seinen Freunden\, dem großen Little John und dem Mönch Bruder Tuck gegen die Herrschaft von Prinz Johann rebelliert. Der hat nämlich den Thron seines Bruders übernommen\, während der im Krieg ist\, und die ganze englische Bevölkerung verarmt aufgrund seiner hohen Steuern. Aber zum Glück ist Robin Hood ja da\, der von den Reichen stiehlt und es den Armen gibt. Doch Johann und der fiese Sheriff von Nottingham planen schon\, Robin Hood in eine Falle zu locken. Mit Hilfe eines Bogenschießens soll dieses Vorhaben gelingen… \nEin Theaterstück für klein und groß\, bei dem es viel zu lachen gibt. So führt nämlich der Dichter Walter von dem Versgedicht durch die mittelalterliche Welt und sorgt mit seiner kleinen Reimschwäche dafür\, dass die kleine Helden unter den Zuschauern auch etwas zu tun haben. Die Spannung kommt nicht zu kurz\, wenn Robin und seine Kameraden gegen die Schergen des Prinzen kämpfen müssen. Und nicht zu vergessen die schöne Maid Marian\, die schon ein Auge auf den Bogenschützen aus dem Sherwood Forest geworfen hat…\nEin Stück\, das sich gut für das Laientheater eignet\, da es mit wenigen Schauspielern auskommt\, auch Rollen für Kinder bereit hält und kein kompliziertes Bühnenbild erfordert.
URL:http://850jahre.burgaltendorf.de/event/13-burgaltendorfer-theaterwochenende-robin-hood-ktb
LOCATION:Gemeindeheim\, Alte Hauptstraße 64\, Essen\, 45289\, Deutschland
CATEGORIES:Kind & Familie,Musik & Gesang
ATTACH;FMTTYPE=image/jpeg:http://850jahre.burgaltendorf.de/wp-content/uploads/2016/01/160416_KTB_robin-hood.jpg
ORGANIZER;CN="Kleines%20Theater%20Burgaltendorf":MAILTO:info@ktb-essen.de
END:VEVENT
END:VCALENDAR