BEGIN:VCALENDAR
VERSION:2.0
PRODID:-//850 Jahre Burgaltendorf - ECPv5.16.3.1//NONSGML v1.0//EN
CALSCALE:GREGORIAN
METHOD:PUBLISH
X-WR-CALNAME:850 Jahre Burgaltendorf
X-ORIGINAL-URL:http://850jahre.burgaltendorf.de
X-WR-CALDESC:Veranstaltungen für 850 Jahre Burgaltendorf
BEGIN:VTIMEZONE
TZID:UTC
BEGIN:STANDARD
TZOFFSETFROM:+0000
TZOFFSETTO:+0000
TZNAME:UTC
DTSTART:20160101T000000
END:STANDARD
END:VTIMEZONE
BEGIN:VEVENT
DTSTART;TZID=UTC:20160416T183000
DTEND;TZID=UTC:20160416T203000
DTSTAMP:20260420T232510
CREATED:20160128T213056Z
LAST-MODIFIED:20160224T005615Z
UID:758-1460831400-1460838600@850jahre.burgaltendorf.de
SUMMARY:13. Burgaltendorfer Theaterwochenende: Oben ohne (KTB)
DESCRIPTION:Komödie in zwei Akten von\nSigrid Ellenberger\n\nInhalt:\nHans-Werner Meister möchte im Worringpark in Burgaltendorf ein Nobel-Seniorenheim bauen. Dieser ist allerdings rege genutzt\, von Boule-spielenden Rentnern und einem Obdachlosen\, der dem Immobilienhai ein Dorn im Auge ist.\nEr versucht\, mit allen Mitteln\, diesen zu vertreiben\, und ihm den Park madig zu machen. Was er nicht weiß: Der Obdachlose ist ein Schauspieler\, der vom Bürgermeisterin angeheuert wurde\, um dem Immobilienhai das Handwerk zu legen\, nämlich\, ihn der Korruption zu überführen. Und ganz nebenbei agiert er auch noch als Therapeut der Ehefrau\, Nachhilfelehrer einer Schülerin und wird bei der Mutter von Hans-Werner Meister zum galanten Charmeur.
URL:http://850jahre.burgaltendorf.de/event/13-burgaltendorfer-theaterwochenende-oben-ohne-ktb
LOCATION:Gemeindeheim\, Alte Hauptstraße 64\, Essen\, 45289\, Deutschland
CATEGORIES:Kind & Familie,Musik & Gesang
ATTACH;FMTTYPE=image/jpeg:http://850jahre.burgaltendorf.de/wp-content/uploads/2016/01/160416_KTB_obenohne.jpg
ORGANIZER;CN="Kleines%20Theater%20Burgaltendorf":MAILTO:info@ktb-essen.de
END:VEVENT
END:VCALENDAR